BEGIN:VCALENDAR
PRODID:NingEventWidget-v1
VERSION:2.0
METHOD:PUBLISH
BEGIN:VEVENT
UID:2044613:Event:336295
DTSTAMP:20260422T113432Z
SUMMARY:Astrologia Cabalistica- Parte I
DESCRIPTION:En este taller aprenderas de que trata este tipo de Astrol
 ogia, su importancia en el manejo de los decanatos, y veremos los prim
 eros 9 decanatos en particular los de los signos de Fuego, alli tambie
 n aprenderas cual es el Destino de estas personas y para que sirven di
 chos decanatos desde el enfoque cabalistico... no te lo pierdas!!!\n\n
 Para más información visita https://astrologosdelmundo.ning.com/even
 ts/astrologia-cabalistica-parte-i
DTSTART:20120505T133000Z
DTEND:20120505T190000Z
CATEGORIES:taller
LOCATION:Centro Astrologico Venezolano
WEBSITE:
URL:
CONTACT:0412-289.78.60
ORGANIZER;CN="Merchi Silkva":https://astrologosdelmundo.ning.com/profi
 le/MerchiSilkva
ATTACH;FMTTYPE="image/jpeg":
ATTENDEE;ROLE=REQ-PARTICIPANT;PARTSTAT=ACCEPTED;RSVP=TRUE;CN="Merchi S
 ilkva":https://astrologosdelmundo.ning.com/profile/MerchiSilkva
END:VEVENT
END:VCALENDAR
